BEGIN:VCALENDAR
VERSION:2.0
PRODID:-//fabianbender.de - ECPv6.15.20//NONSGML v1.0//EN
CALSCALE:GREGORIAN
METHOD:PUBLISH
X-ORIGINAL-URL:https://fabianbender.de/en/
X-WR-CALDESC:Events for fabianbender.de
REFRESH-INTERVAL;VALUE=DURATION:PT1H
X-Robots-Tag:noindex
X-PUBLISHED-TTL:PT1H
BEGIN:VTIMEZONE
TZID:Europe/Berlin
BEGIN:DAYLIGHT
TZOFFSETFROM:+0100
TZOFFSETTO:+0200
TZNAME:CEST
DTSTART:20230326T010000
END:DAYLIGHT
BEGIN:STANDARD
TZOFFSETFROM:+0200
TZOFFSETTO:+0100
TZNAME:CET
DTSTART:20231029T010000
END:STANDARD
BEGIN:DAYLIGHT
TZOFFSETFROM:+0100
TZOFFSETTO:+0200
TZNAME:CEST
DTSTART:20240331T010000
END:DAYLIGHT
BEGIN:STANDARD
TZOFFSETFROM:+0200
TZOFFSETTO:+0100
TZNAME:CET
DTSTART:20241027T010000
END:STANDARD
BEGIN:DAYLIGHT
TZOFFSETFROM:+0100
TZOFFSETTO:+0200
TZNAME:CEST
DTSTART:20250330T010000
END:DAYLIGHT
BEGIN:STANDARD
TZOFFSETFROM:+0200
TZOFFSETTO:+0100
TZNAME:CET
DTSTART:20251026T010000
END:STANDARD
BEGIN:DAYLIGHT
TZOFFSETFROM:+0100
TZOFFSETTO:+0200
TZNAME:CEST
DTSTART:20260329T010000
END:DAYLIGHT
BEGIN:STANDARD
TZOFFSETFROM:+0200
TZOFFSETTO:+0100
TZNAME:CET
DTSTART:20261025T010000
END:STANDARD
END:VTIMEZONE
BEGIN:VEVENT
DTSTART;VALUE=DATE:20240907
DTEND;VALUE=DATE:20240908
DTSTAMP:20260425T181701
CREATED:20240523T224053Z
LAST-MODIFIED:20240607T093325Z
UID:919-1725667200-1725753599@fabianbender.de
SUMMARY:The Splendid in Bad Nenndorf\, Wandelhalle
DESCRIPTION:
URL:https://fabianbender.de/en/event/the-new-brand-splendid-bad-nenndorf/
END:VEVENT
BEGIN:VEVENT
DTSTART;VALUE=DATE:20240914
DTEND;VALUE=DATE:20240915
DTSTAMP:20260425T181701
CREATED:20240523T224120Z
LAST-MODIFIED:20240904T110721Z
UID:918-1726272000-1726358399@fabianbender.de
SUMMARY:Beat !t in Hannover\, Brauhaus Ernst August
DESCRIPTION:Beat !t
URL:https://fabianbender.de/en/event/band-beat-t-im-brauhaus-ernst-august-hannover-2/
END:VEVENT
BEGIN:VEVENT
DTSTART;VALUE=DATE:20240915
DTEND;VALUE=DATE:20240916
DTSTAMP:20260425T181701
CREATED:20240523T224155Z
LAST-MODIFIED:20240607T093158Z
UID:917-1726358400-1726444799@fabianbender.de
SUMMARY:FAM in Goslar\, Stadtfest
DESCRIPTION:
URL:https://fabianbender.de/en/event/fancy-acoustic-music-goslar/
END:VEVENT
BEGIN:VEVENT
DTSTART;VALUE=DATE:20240920
DTEND;VALUE=DATE:20240921
DTSTAMP:20260425T181701
CREATED:20240605T084451Z
LAST-MODIFIED:20240607T093049Z
UID:884-1726790400-1726876799@fabianbender.de
SUMMARY:The Splendid in Lindwedel\, Firmenevent
DESCRIPTION:
URL:https://fabianbender.de/en/event/the-splendid-lindwedel/
END:VEVENT
BEGIN:VEVENT
DTSTART;VALUE=DATE:20240921
DTEND;VALUE=DATE:20240922
DTSTAMP:20260425T181701
CREATED:20240523T224219Z
LAST-MODIFIED:20240802T215013Z
UID:898-1726876800-1726963199@fabianbender.de
SUMMARY:Beat !t (unplugged) in Hahnenklee
DESCRIPTION:
URL:https://fabianbender.de/en/event/fancy-acoustic-music-hahnenklee/
END:VEVENT
BEGIN:VEVENT
DTSTART;VALUE=DATE:20241026
DTEND;VALUE=DATE:20241027
DTSTAMP:20260425T181701
CREATED:20240605T084536Z
LAST-MODIFIED:20240605T084536Z
UID:882-1729900800-1729987199@fabianbender.de
SUMMARY:2. Arbeitsphase des Schaumburg Jazz Orchestra
DESCRIPTION:
URL:https://fabianbender.de/en/event/2-arbeitsphase-des-schaumburg-jazz-orchestra/
END:VEVENT
BEGIN:VEVENT
DTSTART;VALUE=DATE:20241109
DTEND;VALUE=DATE:20241110
DTSTAMP:20260425T181701
CREATED:20240523T224250Z
LAST-MODIFIED:20240904T110429Z
UID:897-1731110400-1731196799@fabianbender.de
SUMMARY:Beat !t in Hannover\, Brauhaus Ernst August Hannover
DESCRIPTION:Beat !t
URL:https://fabianbender.de/en/event/band-beat-t-im-brauhaus-ernst-august-hannover-3/
END:VEVENT
BEGIN:VEVENT
DTSTART;VALUE=DATE:20241122
DTEND;VALUE=DATE:20241123
DTSTAMP:20260425T181701
CREATED:20240605T084627Z
LAST-MODIFIED:20240608T192300Z
UID:880-1732233600-1732319999@fabianbender.de
SUMMARY:Turning Point in Wienhausen\, Braugasthof Mühlengrund
DESCRIPTION:
URL:https://fabianbender.de/en/event/turning-point-in-celle/
END:VEVENT
BEGIN:VEVENT
DTSTART;VALUE=DATE:20241123
DTEND;VALUE=DATE:20241124
DTSTAMP:20260425T181701
CREATED:20240605T084644Z
LAST-MODIFIED:20240802T221949Z
UID:879-1732320000-1732406399@fabianbender.de
SUMMARY:FAM in Garbsen\, Hischen Haus
DESCRIPTION:
URL:https://fabianbender.de/en/event/fam-in-garbsen-im-hischen-haus/
END:VEVENT
BEGIN:VEVENT
DTSTART;VALUE=DATE:20250111
DTEND;VALUE=DATE:20250112
DTSTAMP:20260425T181701
CREATED:20241027T224601Z
LAST-MODIFIED:20241027T224601Z
UID:1110-1736553600-1736639999@fabianbender.de
SUMMARY:Bandworkshop\, Bad Nenndorf
DESCRIPTION:
URL:https://fabianbender.de/en/event/bandworkshop-bad-nenndorf/
END:VEVENT
BEGIN:VEVENT
DTSTART;VALUE=DATE:20250215
DTEND;VALUE=DATE:20250217
DTSTAMP:20260425T181701
CREATED:20241027T224725Z
LAST-MODIFIED:20241027T224946Z
UID:1113-1739577600-1739750399@fabianbender.de
SUMMARY:Arbeitsphase mit dem Schaumburg Jazz Orchestra #5 (SJO)
DESCRIPTION:
URL:https://fabianbender.de/en/event/arbeitsphase-mit-dem-schaumburg-jazz-orchestra-5-sjo/
END:VEVENT
BEGIN:VEVENT
DTSTART;VALUE=DATE:20250222
DTEND;VALUE=DATE:20250223
DTSTAMP:20260425T181701
CREATED:20241027T224833Z
LAST-MODIFIED:20241027T225025Z
UID:1116-1740182400-1740268799@fabianbender.de
SUMMARY:Beat it\, Gospelkirche Hannover
DESCRIPTION:
URL:https://fabianbender.de/en/event/beat-it-gospelkirche-hannover/
END:VEVENT
END:VCALENDAR